Package: DEsingle Version: 1.27.0 Command: /home/biocbuild/bbs-3.21-bioc/R/bin/R CMD build --keep-empty-dirs --no-resave-data DEsingle StartedAt: 2025-02-19 16:59:17 -0500 (Wed, 19 Feb 2025) EndedAt: 2025-02-19 16:59:29 -0500 (Wed, 19 Feb 2025) EllapsedTime: 12.0 seconds RetCode: 0 Status: OK PackageFile: DEsingle_1.27.0.tar.gz PackageFileSize: 380.1 KiB