Package: DEsingle Version: 1.27.0 Command: /Library/Frameworks/R.framework/Resources/bin/R CMD INSTALL DEsingle StartedAt: 2025-02-19 15:34:04 -0500 (Wed, 19 Feb 2025) EndedAt: 2025-02-19 15:34:14 -0500 (Wed, 19 Feb 2025) EllapsedTime: 10.7 seconds RetCode: 0 Status: OK