Package: DEsingle Version: 1.27.0 Command: /Library/Frameworks/R.framework/Resources/bin/R CMD build --keep-empty-dirs --no-resave-data DEsingle StartedAt: 2025-02-20 16:29:00 -0500 (Thu, 20 Feb 2025) EndedAt: 2025-02-20 16:29:16 -0500 (Thu, 20 Feb 2025) EllapsedTime: 15.9 seconds RetCode: 0 Status: OK PackageFile: DEsingle_1.27.0.tar.gz PackageFileSize: 380 KiB