Package: DEsingle Version: 1.27.0 Command: /Library/Frameworks/R.framework/Resources/bin/R CMD check --install=check:DEsingle.install-out.txt --library=/Library/Frameworks/R.framework/Resources/library --no-vignettes --timings DEsingle_1.27.0.tar.gz StartedAt: 2025-02-19 19:00:25 -0500 (Wed, 19 Feb 2025) EndedAt: 2025-02-19 19:01:30 -0500 (Wed, 19 Feb 2025) EllapsedTime: 64.7 seconds RetCode: 0 Status: OK CheckDir: DEsingle.Rcheck Warnings: 0