Package: DEqMS Version: 1.25.0 Command: /Library/Frameworks/R.framework/Resources/bin/R CMD check --install=check:DEqMS.install-out.txt --library=/Library/Frameworks/R.framework/Resources/library --no-vignettes --timings DEqMS_1.25.0.tar.gz StartedAt: 2025-02-20 20:00:28 -0500 (Thu, 20 Feb 2025) EndedAt: 2025-02-20 20:03:28 -0500 (Thu, 20 Feb 2025) EllapsedTime: 180.2 seconds RetCode: 0 Status: OK CheckDir: DEqMS.Rcheck Warnings: 0