Package: DEqMS Version: 1.25.0 Command: rm -rf DEqMS.buildbin-libdir && mkdir DEqMS.buildbin-libdir && /Users/biocbuild/BBS/utils/build-universal.sh DEqMS_1.25.0.tar.gz /Library/Frameworks/R.framework/Resources/bin/R DEqMS.buildbin-libdir StartedAt: 2025-02-21 00:27:42 -0500 (Fri, 21 Feb 2025) EndedAt: 2025-02-21 00:27:50 -0500 (Fri, 21 Feb 2025) EllapsedTime: 8.0 seconds RetCode: 0 Status: OK PackageFile: DEqMS_1.25.0.tgz PackageFileSize: 2.243 MiB