Package: DEXSeq Version: 1.53.0 Command: chmod a+r DEXSeq -R && E:\biocbuild\bbs-3.21-bioc\R\bin\R.exe CMD build --keep-empty-dirs --no-resave-data DEXSeq StartedAt: 2025-02-20 18:23:39 -0500 (Thu, 20 Feb 2025) EndedAt: 2025-02-20 18:25:34 -0500 (Thu, 20 Feb 2025) EllapsedTime: 114.4 seconds RetCode: 1 Status: ERROR PackageFile: None PackageFileSize: NA