Package: DEXSeq Version: 1.53.0 Command: /Library/Frameworks/R.framework/Resources/bin/R CMD INSTALL DEXSeq StartedAt: 2025-02-20 15:23:12 -0500 (Thu, 20 Feb 2025) EndedAt: 2025-02-20 15:23:25 -0500 (Thu, 20 Feb 2025) EllapsedTime: 13.6 seconds RetCode: 0 Status: OK