Package: DESpace Version: 1.7.0 Command: chmod a+r DESpace -R && E:\biocbuild\bbs-3.21-bioc\R\bin\R.exe CMD build --keep-empty-dirs --no-resave-data DESpace StartedAt: 2025-02-20 18:22:26 -0500 (Thu, 20 Feb 2025) EndedAt: 2025-02-20 18:47:29 -0500 (Thu, 20 Feb 2025) EllapsedTime: 1502.5 seconds RetCode: 0 Status: OK PackageFile: DESpace_1.7.0.tar.gz PackageFileSize: 1.883 MiB