Package: DESpace Version: 1.7.0 Command: /Library/Frameworks/R.framework/Resources/bin/R CMD INSTALL DESpace StartedAt: 2025-02-20 15:41:30 -0500 (Thu, 20 Feb 2025) EndedAt: 2025-02-20 15:42:06 -0500 (Thu, 20 Feb 2025) EllapsedTime: 36.6 seconds RetCode: 0 Status: OK