Package: DESeq2 Version: 1.47.3 Command: /Library/Frameworks/R.framework/Resources/bin/R CMD INSTALL DESeq2 StartedAt: 2025-02-20 15:08:05 -0500 (Thu, 20 Feb 2025) EndedAt: 2025-02-20 15:08:21 -0500 (Thu, 20 Feb 2025) EllapsedTime: 15.8 seconds RetCode: 0 Status: OK