Package: DEScan2 Version: 1.27.0 Command: E:\biocbuild\bbs-3.21-bioc\R\bin\R.exe CMD INSTALL DEScan2 StartedAt: 2025-02-19 16:41:51 -0500 (Wed, 19 Feb 2025) EndedAt: 2025-02-19 16:43:06 -0500 (Wed, 19 Feb 2025) EllapsedTime: 75.1 seconds RetCode: 0 Status: OK