Package: DEScan2 Version: 1.27.0 Command: chmod a+r DEScan2 -R && E:\biocbuild\bbs-3.21-bioc\R\bin\R.exe CMD build --keep-empty-dirs --no-resave-data DEScan2 StartedAt: 2025-02-19 18:21:31 -0500 (Wed, 19 Feb 2025) EndedAt: 2025-02-19 18:24:21 -0500 (Wed, 19 Feb 2025) EllapsedTime: 170.6 seconds RetCode: 0 Status: OK PackageFile: DEScan2_1.27.0.tar.gz PackageFileSize: 2.404 MiB