Package: DEScan2 Version: 1.27.0 Command: /home/biocbuild/bbs-3.21-bioc/R/bin/R CMD check --install=check:DEScan2.install-out.txt --library=/home/biocbuild/bbs-3.21-bioc/R/site-library --timings DEScan2_1.27.0.tar.gz StartedAt: 2025-02-19 21:37:58 -0500 (Wed, 19 Feb 2025) EndedAt: 2025-02-19 21:45:52 -0500 (Wed, 19 Feb 2025) EllapsedTime: 473.6 seconds RetCode: 0 Status: WARNINGS CheckDir: DEScan2.Rcheck Warnings: 2