Package: DEScan2 Version: 1.27.0 Command: /home/biocbuild/bbs-3.21-bioc/R/bin/R CMD build --keep-empty-dirs --no-resave-data DEScan2 StartedAt: 2025-02-19 16:59:13 -0500 (Wed, 19 Feb 2025) EndedAt: 2025-02-19 17:00:45 -0500 (Wed, 19 Feb 2025) EllapsedTime: 92.1 seconds RetCode: 0 Status: OK PackageFile: DEScan2_1.27.0.tar.gz PackageFileSize: 2.482 MiB