Package: DEScan2 Version: 1.27.0 Command: /Library/Frameworks/R.framework/Resources/bin/R CMD INSTALL DEScan2 StartedAt: 2025-02-19 15:37:13 -0500 (Wed, 19 Feb 2025) EndedAt: 2025-02-19 15:38:28 -0500 (Wed, 19 Feb 2025) EllapsedTime: 74.5 seconds RetCode: 0 Status: OK