Package: DEScan2 Version: 1.27.0 Command: /Library/Frameworks/R.framework/Resources/bin/R CMD INSTALL DEScan2 StartedAt: 2025-02-19 15:23:15 -0500 (Wed, 19 Feb 2025) EndedAt: 2025-02-19 15:23:37 -0500 (Wed, 19 Feb 2025) EllapsedTime: 22.1 seconds RetCode: 0 Status: OK