Package: DEP Version: 1.29.0 Command: E:\biocbuild\bbs-3.21-bioc\R\bin\R.exe CMD check --no-multiarch --install=check:DEP.install-out.txt --library=E:\biocbuild\bbs-3.21-bioc\R\library --no-vignettes --timings DEP_1.29.0.tar.gz StartedAt: 2025-02-20 00:25:23 -0500 (Thu, 20 Feb 2025) EndedAt: 2025-02-20 00:34:09 -0500 (Thu, 20 Feb 2025) EllapsedTime: 526.0 seconds RetCode: 1 Status: ERROR CheckDir: DEP.Rcheck Warnings: NA