Package: DEP Version: 1.29.0 Command: chmod a+r DEP -R && E:\biocbuild\bbs-3.21-bioc\R\bin\R.exe CMD build --keep-empty-dirs --no-resave-data DEP StartedAt: 2025-02-19 18:19:51 -0500 (Wed, 19 Feb 2025) EndedAt: 2025-02-19 18:22:01 -0500 (Wed, 19 Feb 2025) EllapsedTime: 129.6 seconds RetCode: 0 Status: OK PackageFile: DEP_1.29.0.tar.gz PackageFileSize: 2.198 MiB