Package: DEP Version: 1.29.0 Command: /home/biocbuild/bbs-3.21-bioc/R/bin/R CMD INSTALL DEP StartedAt: 2025-02-19 15:35:45 -0500 (Wed, 19 Feb 2025) EndedAt: 2025-02-19 15:36:24 -0500 (Wed, 19 Feb 2025) EllapsedTime: 39.0 seconds RetCode: 0 Status: OK