Package: DEP Version: 1.29.0 Command: /Library/Frameworks/R.framework/Resources/bin/R CMD check --install=check:DEP.install-out.txt --library=/Library/Frameworks/R.framework/Resources/library --no-vignettes --timings DEP_1.29.0.tar.gz StartedAt: 2025-02-19 19:59:12 -0500 (Wed, 19 Feb 2025) EndedAt: 2025-02-19 20:07:03 -0500 (Wed, 19 Feb 2025) EllapsedTime: 471.7 seconds RetCode: 1 Status: ERROR CheckDir: DEP.Rcheck Warnings: NA