Package: DEP Version: 1.29.0 Command: rm -rf DEP.buildbin-libdir && mkdir DEP.buildbin-libdir && /Users/biocbuild/BBS/utils/build-universal.sh DEP_1.29.0.tar.gz /Library/Frameworks/R.framework/Resources/bin/R DEP.buildbin-libdir StartedAt: 2025-02-20 00:28:58 -0500 (Thu, 20 Feb 2025) EndedAt: 2025-02-20 00:29:54 -0500 (Thu, 20 Feb 2025) EllapsedTime: 55.6 seconds RetCode: 0 Status: OK PackageFile: DEP_1.29.0.tgz PackageFileSize: 4.26 MiB