Package: DEP Version: 1.29.0 Command: /Library/Frameworks/R.framework/Resources/bin/R CMD INSTALL DEP StartedAt: 2025-02-19 15:18:47 -0500 (Wed, 19 Feb 2025) EndedAt: 2025-02-19 15:19:02 -0500 (Wed, 19 Feb 2025) EllapsedTime: 15.4 seconds RetCode: 0 Status: OK