Package: DELocal Version: 1.7.0 Command: E:\biocbuild\bbs-3.21-bioc\R\bin\R.exe CMD INSTALL DELocal StartedAt: 2025-02-20 16:10:27 -0500 (Thu, 20 Feb 2025) EndedAt: 2025-02-20 16:10:59 -0500 (Thu, 20 Feb 2025) EllapsedTime: 32.4 seconds RetCode: 0 Status: OK