Package: DELocal Version: 1.7.0 Command: /home/biocbuild/bbs-3.21-bioc/R/bin/R CMD INSTALL DELocal StartedAt: 2025-02-21 16:03:13 -0500 (Fri, 21 Feb 2025) EndedAt: 2025-02-21 16:03:38 -0500 (Fri, 21 Feb 2025) EllapsedTime: 24.8 seconds RetCode: 0 Status: OK