Package: DELocal Version: 1.7.0 Command: /Library/Frameworks/R.framework/Resources/bin/R CMD INSTALL DELocal StartedAt: 2025-02-20 15:17:45 -0500 (Thu, 20 Feb 2025) EndedAt: 2025-02-20 15:18:18 -0500 (Thu, 20 Feb 2025) EllapsedTime: 33.2 seconds RetCode: 0 Status: OK