Package: DELocal Version: 1.7.0 Command: /Library/Frameworks/R.framework/Resources/bin/R CMD build --keep-empty-dirs --no-resave-data DELocal StartedAt: 2025-02-20 16:27:14 -0500 (Thu, 20 Feb 2025) EndedAt: 2025-02-20 16:28:35 -0500 (Thu, 20 Feb 2025) EllapsedTime: 81.1 seconds RetCode: 0 Status: OK PackageFile: DELocal_1.7.0.tar.gz PackageFileSize: 2.334 MiB