Package: DEGseq Version: 1.61.0 Command: chmod a+r DEGseq -R && E:\biocbuild\bbs-3.21-bioc\R\bin\R.exe CMD build --keep-empty-dirs --no-resave-data DEGseq StartedAt: 2025-02-20 18:18:36 -0500 (Thu, 20 Feb 2025) EndedAt: 2025-02-20 18:19:24 -0500 (Thu, 20 Feb 2025) EllapsedTime: 48.3 seconds RetCode: 0 Status: OK PackageFile: DEGseq_1.61.0.tar.gz PackageFileSize: 1.839 MiB