Package: DEGseq Version: 1.61.0 Command: rm -rf DEGseq.buildbin-libdir && mkdir DEGseq.buildbin-libdir && E:\biocbuild\bbs-3.21-bioc\R\bin\R.exe CMD INSTALL --build --library=DEGseq.buildbin-libdir DEGseq_1.61.0.tar.gz StartedAt: 2025-02-21 07:56:42 -0500 (Fri, 21 Feb 2025) EndedAt: 2025-02-21 07:57:25 -0500 (Fri, 21 Feb 2025) EllapsedTime: 43.1 seconds RetCode: 0 Status: OK PackageFile: DEGseq_1.61.0.zip PackageFileSize: 2.386 MiB