Package: DEGseq Version: 1.61.0 Command: /Library/Frameworks/R.framework/Resources/bin/R CMD build --keep-empty-dirs --no-resave-data DEGseq StartedAt: 2025-02-20 16:26:55 -0500 (Thu, 20 Feb 2025) EndedAt: 2025-02-20 16:27:24 -0500 (Thu, 20 Feb 2025) EllapsedTime: 28.5 seconds RetCode: 0 Status: OK PackageFile: DEGseq_1.61.0.tar.gz PackageFileSize: 1.96 MiB