Package: DEGseq Version: 1.61.0 Command: /Library/Frameworks/R.framework/Resources/bin/R CMD check --install=check:DEGseq.install-out.txt --library=/Library/Frameworks/R.framework/Resources/library --no-vignettes --timings DEGseq_1.61.0.tar.gz StartedAt: 2025-02-20 18:55:32 -0500 (Thu, 20 Feb 2025) EndedAt: 2025-02-20 18:55:49 -0500 (Thu, 20 Feb 2025) EllapsedTime: 17.2 seconds RetCode: 0 Status: WARNINGS CheckDir: DEGseq.Rcheck Warnings: 1