Package: DEGreport Version: 1.43.0 Command: E:\biocbuild\bbs-3.21-bioc\R\bin\R.exe CMD INSTALL DEGreport StartedAt: 2025-02-19 16:03:24 -0500 (Wed, 19 Feb 2025) EndedAt: 2025-02-19 16:04:21 -0500 (Wed, 19 Feb 2025) EllapsedTime: 56.3 seconds RetCode: 0 Status: OK