Package: DEGraph Version: 1.59.0 Command: /home/biocbuild/bbs-3.21-bioc/R/bin/R CMD build --keep-empty-dirs --no-resave-data DEGraph StartedAt: 2025-02-20 17:10:55 -0500 (Thu, 20 Feb 2025) EndedAt: 2025-02-20 17:10:56 -0500 (Thu, 20 Feb 2025) EllapsedTime: 1.0 seconds RetCode: 1 Status: ERROR PackageFile: None PackageFileSize: NA