Package: DEFormats Version: 1.35.0 Command: /home/biocbuild/bbs-3.21-bioc/R/bin/R CMD build --keep-empty-dirs --no-resave-data DEFormats StartedAt: 2025-02-20 17:10:23 -0500 (Thu, 20 Feb 2025) EndedAt: 2025-02-20 17:11:01 -0500 (Thu, 20 Feb 2025) EllapsedTime: 38.0 seconds RetCode: 0 Status: OK PackageFile: DEFormats_1.35.0.tar.gz PackageFileSize: 226.5 KiB