Package: DEFormats Version: 1.35.0 Command: /Library/Frameworks/R.framework/Resources/bin/R CMD INSTALL DEFormats StartedAt: 2025-02-20 15:22:54 -0500 (Thu, 20 Feb 2025) EndedAt: 2025-02-20 15:23:27 -0500 (Thu, 20 Feb 2025) EllapsedTime: 33.6 seconds RetCode: 0 Status: OK