Package: DEFormats Version: 1.35.0 Command: /Library/Frameworks/R.framework/Resources/bin/R CMD check --install=check:DEFormats.install-out.txt --library=/Library/Frameworks/R.framework/Resources/library --no-vignettes --timings DEFormats_1.35.0.tar.gz StartedAt: 2025-02-20 19:54:53 -0500 (Thu, 20 Feb 2025) EndedAt: 2025-02-20 19:58:12 -0500 (Thu, 20 Feb 2025) EllapsedTime: 198.8 seconds RetCode: 0 Status: OK CheckDir: DEFormats.Rcheck Warnings: 0