Package: DEFormats Version: 1.35.0 Command: /Library/Frameworks/R.framework/Resources/bin/R CMD build --keep-empty-dirs --no-resave-data DEFormats StartedAt: 2025-02-19 16:26:33 -0500 (Wed, 19 Feb 2025) EndedAt: 2025-02-19 16:27:20 -0500 (Wed, 19 Feb 2025) EllapsedTime: 46.9 seconds RetCode: 0 Status: OK PackageFile: DEFormats_1.35.0.tar.gz PackageFileSize: 226.4 KiB