Package: DECIPHER Version: 3.3.2 Command: /home/biocbuild/bbs-3.21-bioc/R/bin/R CMD check --install=check:DECIPHER.install-out.txt --library=/home/biocbuild/bbs-3.21-bioc/R/site-library --timings DECIPHER_3.3.2.tar.gz StartedAt: 2025-02-20 21:18:47 -0500 (Thu, 20 Feb 2025) EndedAt: 2025-02-20 21:51:13 -0500 (Thu, 20 Feb 2025) EllapsedTime: 1945.5 seconds RetCode: 0 Status: OK CheckDir: DECIPHER.Rcheck Warnings: 0