Package: DECIPHER Version: 3.3.2 Command: /Library/Frameworks/R.framework/Resources/bin/R CMD INSTALL DECIPHER StartedAt: 2025-02-20 15:10:48 -0500 (Thu, 20 Feb 2025) EndedAt: 2025-02-20 15:12:04 -0500 (Thu, 20 Feb 2025) EllapsedTime: 75.9 seconds RetCode: 0 Status: OK