Package: DECIPHER Version: 3.3.2 Command: /Library/Frameworks/R.framework/Resources/bin/R CMD check --install=check:DECIPHER.install-out.txt --library=/Library/Frameworks/R.framework/Resources/library --no-vignettes --timings DECIPHER_3.3.2.tar.gz StartedAt: 2025-02-20 19:53:52 -0500 (Thu, 20 Feb 2025) EndedAt: 2025-02-20 20:10:52 -0500 (Thu, 20 Feb 2025) EllapsedTime: 1020.1 seconds RetCode: 0 Status: OK CheckDir: DECIPHER.Rcheck Warnings: 0