Package: DECIPHER Version: 3.3.2 Command: /Library/Frameworks/R.framework/Resources/bin/R CMD build --keep-empty-dirs --no-resave-data DECIPHER StartedAt: 2025-02-20 16:25:26 -0500 (Thu, 20 Feb 2025) EndedAt: 2025-02-20 16:44:45 -0500 (Thu, 20 Feb 2025) EllapsedTime: 1159.4 seconds RetCode: 0 Status: OK PackageFile: DECIPHER_3.3.2.tar.gz PackageFileSize: 17.09 MiB