Package: DECIPHER Version: 3.3.2 Command: rm -rf DECIPHER.buildbin-libdir && mkdir DECIPHER.buildbin-libdir && /Users/biocbuild/BBS/utils/build-universal.sh DECIPHER_3.3.2.tar.gz /Library/Frameworks/R.framework/Resources/bin/R DECIPHER.buildbin-libdir StartedAt: 2025-02-21 00:27:03 -0500 (Fri, 21 Feb 2025) EndedAt: 2025-02-21 00:28:24 -0500 (Fri, 21 Feb 2025) EllapsedTime: 80.9 seconds RetCode: 0 Status: OK PackageFile: DECIPHER_3.3.2.tgz PackageFileSize: 16.64 MiB