Package: DECIPHER Version: 3.3.2 Command: /Library/Frameworks/R.framework/Resources/bin/R CMD INSTALL DECIPHER StartedAt: 2025-02-19 15:05:20 -0500 (Wed, 19 Feb 2025) EndedAt: 2025-02-19 15:05:40 -0500 (Wed, 19 Feb 2025) EllapsedTime: 20.4 seconds RetCode: 0 Status: OK