Package: DCATS Version: 1.5.0 Command: E:\biocbuild\bbs-3.21-bioc\R\bin\R.exe CMD INSTALL DCATS StartedAt: 2025-02-20 15:55:00 -0500 (Thu, 20 Feb 2025) EndedAt: 2025-02-20 15:55:14 -0500 (Thu, 20 Feb 2025) EllapsedTime: 14.1 seconds RetCode: 0 Status: OK