Package: DCATS Version: 1.5.0 Command: /home/biocbuild/bbs-3.21-bioc/R/bin/R CMD INSTALL DCATS StartedAt: 2025-02-20 15:12:34 -0500 (Thu, 20 Feb 2025) EndedAt: 2025-02-20 15:12:41 -0500 (Thu, 20 Feb 2025) EllapsedTime: 6.4 seconds RetCode: 0 Status: OK