Package: DART Version: 1.55.0 Command: chmod a+r DART -R && E:\biocbuild\bbs-3.21-bioc\R\bin\R.exe CMD build --keep-empty-dirs --no-resave-data DART StartedAt: 2025-02-19 18:13:20 -0500 (Wed, 19 Feb 2025) EndedAt: 2025-02-19 18:13:53 -0500 (Wed, 19 Feb 2025) EllapsedTime: 33.6 seconds RetCode: 0 Status: OK PackageFile: DART_1.55.0.tar.gz PackageFileSize: 1.989 MiB