Package: DART Version: 1.55.0 Command: /home/biocbuild/bbs-3.21-bioc/R/bin/R CMD check --install=check:DART.install-out.txt --library=/home/biocbuild/bbs-3.21-bioc/R/site-library --timings DART_1.55.0.tar.gz StartedAt: 2025-02-19 21:23:44 -0500 (Wed, 19 Feb 2025) EndedAt: 2025-02-19 21:24:29 -0500 (Wed, 19 Feb 2025) EllapsedTime: 45.0 seconds RetCode: 0 Status: OK CheckDir: DART.Rcheck Warnings: 0