Package: DART Version: 1.55.0 Command: /home/biocbuild/bbs-3.21-bioc/R/bin/R CMD build --keep-empty-dirs --no-resave-data DART StartedAt: 2025-02-19 16:53:48 -0500 (Wed, 19 Feb 2025) EndedAt: 2025-02-19 16:54:08 -0500 (Wed, 19 Feb 2025) EllapsedTime: 20.1 seconds RetCode: 0 Status: OK PackageFile: DART_1.55.0.tar.gz PackageFileSize: 1.988 MiB