Package: DAPAR Version: 1.39.0 Command: /home/biocbuild/bbs-3.21-bioc/R/bin/R CMD INSTALL DAPAR StartedAt: 2025-02-17 15:35:33 -0500 (Mon, 17 Feb 2025) EndedAt: 2025-02-17 15:36:15 -0500 (Mon, 17 Feb 2025) EllapsedTime: 41.3 seconds RetCode: 0 Status: OK