Package: DAPAR Version: 1.39.0 Command: /home/biocbuild/bbs-3.21-bioc/R/bin/R CMD check --install=check:DAPAR.install-out.txt --library=/home/biocbuild/bbs-3.21-bioc/R/site-library --timings DAPAR_1.39.0.tar.gz StartedAt: 2025-02-17 21:18:07 -0500 (Mon, 17 Feb 2025) EndedAt: 2025-02-17 21:26:14 -0500 (Mon, 17 Feb 2025) EllapsedTime: 486.5 seconds RetCode: 0 Status: OK CheckDir: DAPAR.Rcheck Warnings: 0